BEGIN:VCALENDAR
VERSION:2.0
PRODID:-//Eventin//Event Calendar//EN
CALSCALE:GREGORIAN
METHOD:PUBLISH
BEGIN:VEVENT
UID:5242414344a623c0b428653dc7dac5b4@cotswoldshuddle.com
SUMMARY:Berkeley Castle ∙ 3 November 2026
DESCRIPTION:When: Tuesday ∙ 3 November\, 2026 ∙ 11.30am\n\n\n\nWhere:
  Berkeley Castle\, Berkeley\, Stroud GL13 9PJ\n\n\n\nWhat3Words: cove.jui
 ces.regal\n\n\n\nTickets: No need to book\, no cost\, no tickets… just r
 ock up and enjoy.\n\n\n\nThat’s it. The Huddle is FREE and lasts for a c
 ouple of hours.\n\n\n\nOur Huddle is the friendliest networking event in th
 e Cotswolds. A casual event for businesses and people to meet\, mingle\, an
 d learn from each other. Always free refreshments and plenty of opportuniti
 es to network with a great bunch of people.
LOCATION:Berkeley Castle
DTSTAMP:20260421T103147Z
DTSTART:20261103T113000Z
DTEND:20261103T130000Z
END:VEVENT
END:VCALENDAR
