BEGIN:VCALENDAR
VERSION:2.0
PRODID:-//Eventin//Event Calendar//EN
CALSCALE:GREGORIAN
METHOD:PUBLISH
BEGIN:VEVENT
UID:6712547e6372e8a008273e0114a1ac96@cotswoldshuddle.com
SUMMARY:Whatley Manor ∙ 6 October 2026
DESCRIPTION:When: Tuesday ∙ 6 October\, 2026 ∙ 11.30am\n\n\n\nWhere: 
 Whatley Menor\, Easton Grey\, Malmesbury SN16 0RB \n\n\n\nWhat3Words: nour
 ished.tastes.shaped\n\n\n\nTickets: No need to book\, no cost\, no tickets
 … just rock up and enjoy.\n\n\n\nThat’s it. The Huddle is FREE and las
 ts for a couple of hours.\n\n\n\nOur Huddle is the friendliest networking e
 vent in the Cotswolds. A casual event for businesses and people to meet\, m
 ingle\, and learn from each other. Always free refreshments and plenty of o
 pportunities to network with a great bunch of people.
LOCATION:Whatley Manor
DTSTAMP:20260421T090620Z
DTSTART:20261006T103000Z
DTEND:20261006T120000Z
END:VEVENT
END:VCALENDAR
