BEGIN:VCALENDAR
VERSION:2.0
PRODID:-//Eventin//Event Calendar//EN
CALSCALE:GREGORIAN
METHOD:PUBLISH
BEGIN:VEVENT
UID:ccab80d3b437d2996a01ac4165217af7@cotswoldshuddle.com
SUMMARY:HUDSON'S Home & Antiques ∙ 1 September 2026
DESCRIPTION:When: Tuesday ∙ 1 September\, 2026 ∙ 11.30am\n\n\n\nWhere:
  HUDSON'S Home & Antiques\, Dodwell Trading Estate\, Evesham RoadStratford
 -upon-Avon\, CV37 9ST\n\n\n\nWhat3Words: jousting.admiral.glows\n\n\n\nTic
 kets: No need to book\, no cost\, no tickets… just rock up and enjoy.\n\
 n\n\nThat’s it. The Huddle is FREE and lasts for a couple of hours.\n\n\
 n\nOur Huddle is the friendliest networking event in the Cotswolds. A casua
 l event for businesses and people to meet\, mingle\, and learn from each ot
 her. Always free refreshments and plenty of opportunities to network with a
  great bunch of people.
LOCATION:HUDSON'S Home & Antiques
DTSTAMP:20260421T090339Z
DTSTART:20260901T103000Z
DTEND:20260901T120000Z
END:VEVENT
END:VCALENDAR
