BEGIN:VCALENDAR
VERSION:2.0
PRODID:-//Eventin//Event Calendar//EN
CALSCALE:GREGORIAN
METHOD:PUBLISH
BEGIN:VEVENT
UID:882fca13962988bf2a65c703a9b5e8b5@cotswoldshuddle.com
SUMMARY:Vinotopia ∙ 4 August 2026
DESCRIPTION:When: Tuesday ∙ 4 August\, 2026 ∙ 11.30am\n\n\n\nWhere: V
 inotopia\, Nailsworth Mills Estate\, Avening Rd\, Nailsworth\, GL6 0BS\n\n\
 n\nWhat3Words: vegans.scooped.mammoths\n\n\n\nTickets: No need to book\, 
 no cost\, no tickets… just rock up and enjoy.\n\n\n\nThat’s it. The Hu
 ddle is FREE and lasts for a couple of hours.\n\n\n\nOur Huddle is the frie
 ndliest networking event in the Cotswolds. A casual event for businesses an
 d people to meet\, mingle\, and learn from each other. Always free refreshm
 ents and plenty of opportunities to network with a great bunch of people.
LOCATION:Vinotopia\, Nailsworth
DTSTAMP:20260421T110130Z
DTSTART:20260804T103000Z
DTEND:20260804T120000Z
END:VEVENT
END:VCALENDAR
