BEGIN:VCALENDAR
VERSION:2.0
PRODID:-//Eventin//Event Calendar//EN
CALSCALE:GREGORIAN
METHOD:PUBLISH
BEGIN:VEVENT
UID:403ff89279f74508dccc9cb190dbea99@cotswoldshuddle.com
SUMMARY:The Fish ∙ 7 July 2026
DESCRIPTION:When: Tuesday ∙ 7 July\, 2026 ∙ 11.30am\n\n\n\nWhere: The
  Fish\, Campden Ln\, Broadway WR12 7LH\n\n\n\nWhat3Words: limitless.notche
 d.centrally\n\n\n\nTickets: No need to book\, no cost\, no tickets… just
  rock up and enjoy.\n\n\n\nThat’s it. The Huddle is FREE and lasts for a
  couple of hours.\n\n\n\nOur Huddle is the friendliest networking event in 
 the Cotswolds. A casual event for businesses and people to meet\, mingle\, 
 and learn from each other. Always free refreshments and plenty of opportuni
 ties to network with a great bunch of people.
LOCATION:The Fish\, Broadway
DTSTAMP:20260421T090726Z
DTSTART:20260707T103000Z
DTEND:20260707T123000Z
END:VEVENT
END:VCALENDAR
