BEGIN:VCALENDAR
VERSION:2.0
PRODID:-//Eventin//Event Calendar//EN
CALSCALE:GREGORIAN
METHOD:PUBLISH
BEGIN:VEVENT
UID:1be9e75111fb7c82ce562286a5b7d3fa@cotswoldshuddle.com
SUMMARY:Dormy House ∙ 1 December 2026
DESCRIPTION:When: Tuesday ∙ 1 December\, 2026 ∙ 11.30am\n\n\n\nWhere:
  Dormy House\, Willersey Hill\, Broadway WR12 7LF\n\n\n\nWhat3Words: pamp
 ering.prefix.campfires\n\n\n\nTickets: No need to book\, no cost\, no tick
 ets… just rock up and enjoy.\n\n\n\nThat’s it. The Huddle is FREE and 
 lasts for a couple of hours.\n\n\n\nOur Huddle is the friendliest networkin
 g event in the Cotswolds. A casual event for businesses and people to meet\
 , mingle\, and learn from each other. Always free refreshments and plenty o
 f opportunities to network with a great bunch of people.
LOCATION:Dormy House\, Broadway
DTSTAMP:20260423T104755Z
DTSTART:20261201T113000Z
DTEND:20261201T133000Z
END:VEVENT
END:VCALENDAR
