BEGIN:VCALENDAR
VERSION:2.0
PRODID:-//Eventin//Event Calendar//EN
CALSCALE:GREGORIAN
METHOD:PUBLISH
BEGIN:VEVENT
UID:7ba77dc1f9ec2817fc6f410e80c39baf@cotswoldshuddle.com
SUMMARY:Wild Thyme & Honey ∙ 5 May 2026
DESCRIPTION:When: Tuesday ∙ 5 May\, 2026 ∙ 11.30am\n\n\n\nWhere: Wild
  Thyme & Honey\, Ampney Crucis\, Cirencester GL7 5RS\n\n\n\nWhat3Words: br
 ush.sweetly.redeeming\n\n\n\nTickets: No need to book\, no cost\, no ticke
 ts… just rock up and enjoy.\n\n\n\nThat’s it. The Huddle is FREE and l
 asts for a couple of hours.\n\n\n\nOur Huddle is the friendliest networking
  event in the Cotswolds. A casual event for businesses and people to meet\,
  mingle\, and learn from each other. Always free refreshments and plenty of
  opportunities to network with a great bunch of people.
LOCATION:Wild Thyme & Honey ∙ Ampney Crucis
DTSTAMP:20260421T120613Z
DTSTART:20260505T103000Z
DTEND:20260505T120000Z
END:VEVENT
END:VCALENDAR
