BEGIN:VCALENDAR
VERSION:2.0
PRODID:-//Eventin//Event Calendar//EN
CALSCALE:GREGORIAN
METHOD:PUBLISH
BEGIN:VEVENT
UID:cf33bc64d760ac437885ec0ff56a9141@cotswoldshuddle.com
SUMMARY:Heath Farm ∙ 2 June 2026
DESCRIPTION:When: Tuesday ∙ 2 June\, 2026 ∙ 11.30am\n\n\n\nWhere: Swe
 rford ∙ Chipping Norton ∙ OX7 4BN\n\n\n\nWhat3Words: meaning.cubs.hed
 gehog\n\n\n\nTickets: No need to book\, no cost\, no tickets… just rock 
 up and enjoy.\n\n\n\nThat’s it. The Huddle is FREE and lasts for a coupl
 e of hours.\n\n\n\nOur Huddle is the friendliest networking event in the Co
 tswolds. A casual event for businesses and people to meet\, mingle\, and le
 arn from each other. Always free refreshments and plenty of opportunities t
 o network with a great bunch of people.
LOCATION:Heath Farm ∙ Chipping Norton
DTSTAMP:20260423T105607Z
DTSTART:20260602T103000Z
DTEND:20260602T123000Z
END:VEVENT
END:VCALENDAR
